BEGIN:VCALENDAR
VERSION:2.0
PRODID:-//Tulare County Probation Department - ECPv6.15.20//NONSGML v1.0//EN
CALSCALE:GREGORIAN
METHOD:PUBLISH
X-WR-CALNAME:Tulare County Probation Department
X-ORIGINAL-URL:https://tcprobation.com
X-WR-CALDESC:Events for Tulare County Probation Department
REFRESH-INTERVAL;VALUE=DURATION:PT1H
X-Robots-Tag:noindex
X-PUBLISHED-TTL:PT1H
BEGIN:VTIMEZONE
TZID:America/Los_Angeles
BEGIN:DAYLIGHT
TZOFFSETFROM:-0800
TZOFFSETTO:-0700
TZNAME:PDT
DTSTART:20250309T100000
END:DAYLIGHT
BEGIN:STANDARD
TZOFFSETFROM:-0700
TZOFFSETTO:-0800
TZNAME:PST
DTSTART:20251102T090000
END:STANDARD
BEGIN:DAYLIGHT
TZOFFSETFROM:-0800
TZOFFSETTO:-0700
TZNAME:PDT
DTSTART:20260308T100000
END:DAYLIGHT
BEGIN:STANDARD
TZOFFSETFROM:-0700
TZOFFSETTO:-0800
TZNAME:PST
DTSTART:20261101T090000
END:STANDARD
BEGIN:DAYLIGHT
TZOFFSETFROM:-0800
TZOFFSETTO:-0700
TZNAME:PDT
DTSTART:20270314T100000
END:DAYLIGHT
BEGIN:STANDARD
TZOFFSETFROM:-0700
TZOFFSETTO:-0800
TZNAME:PST
DTSTART:20271107T090000
END:STANDARD
END:VTIMEZONE
BEGIN:VEVENT
DTSTART;TZID=America/Los_Angeles:20260420T090000
DTEND;TZID=America/Los_Angeles:20260420T120000
DTSTAMP:20260420T013016
CREATED:20260327T211322Z
LAST-MODIFIED:20260327T211325Z
UID:10024211-1776675600-1776686400@tcprobation.com
SUMMARY:Hillman Complex
DESCRIPTION:
URL:https://tcprobation.com/tc-connections-event/hillman-complex-2/2026-04-20/
LOCATION:Hillman Complex\, 559 E Bardsley\, Tulare\, CA\, 93274\, United States
CATEGORIES:Mobile Service Center
END:VEVENT
BEGIN:VEVENT
DTSTART;TZID=America/Los_Angeles:20260422T090000
DTEND;TZID=America/Los_Angeles:20260422T120000
DTSTAMP:20260420T013016
CREATED:20260209T173117Z
LAST-MODIFIED:20260209T173117Z
UID:10023810-1776848400-1776859200@tcprobation.com
SUMMARY:Old Porterville Courthouse
DESCRIPTION:
URL:https://tcprobation.com/tc-connections-event/old-porterville-courthouse-2/2026-04-22/
LOCATION:Old Porterville Courthouse\, 87 E. Morton Ave.\, Porterville\, CA\, 93257\, United States
CATEGORIES:Mobile Service Center
END:VEVENT
BEGIN:VEVENT
DTSTART;TZID=America/Los_Angeles:20260423T130000
DTEND;TZID=America/Los_Angeles:20260423T160000
DTSTAMP:20260420T013016
CREATED:20260209T173303Z
LAST-MODIFIED:20260209T173303Z
UID:10023842-1776949200-1776960000@tcprobation.com
SUMMARY:Visalia Navigation Center
DESCRIPTION:
URL:https://tcprobation.com/tc-connections-event/visalia-navigation-center/2026-04-23/
LOCATION:Visalia Navigation Center\, 3525 N. Court St.\, Visalia\, CA\, 93277\, United States
CATEGORIES:Mobile Service Center
END:VEVENT
BEGIN:VEVENT
DTSTART;TZID=America/Los_Angeles:20260427T090000
DTEND;TZID=America/Los_Angeles:20260427T120000
DTSTAMP:20260420T013017
CREATED:20260327T211322Z
LAST-MODIFIED:20260327T211325Z
UID:10023780-1777280400-1777291200@tcprobation.com
SUMMARY:Hillman Complex
DESCRIPTION:
URL:https://tcprobation.com/tc-connections-event/hillman-complex-2/2026-04-27/
LOCATION:Hillman Complex\, 559 E Bardsley\, Tulare\, CA\, 93274\, United States
CATEGORIES:Mobile Service Center
END:VEVENT
BEGIN:VEVENT
DTSTART;TZID=America/Los_Angeles:20260429T090000
DTEND;TZID=America/Los_Angeles:20260429T120000
DTSTAMP:20260420T013017
CREATED:20260319T185027Z
LAST-MODIFIED:20260319T185027Z
UID:10023929-1777453200-1777464000@tcprobation.com
SUMMARY:Porterville Navigation Center
DESCRIPTION:
URL:https://tcprobation.com/tc-connections-event/porterville-navigation-center/2026-04-29/
LOCATION:Porterville Navigation Center\, 140 S C St.\, Porterville\, CA\, 93257\, United States
CATEGORIES:Mobile Service Center
END:VEVENT
BEGIN:VEVENT
DTSTART;TZID=America/Los_Angeles:20260430T130000
DTEND;TZID=America/Los_Angeles:20260430T160000
DTSTAMP:20260420T013017
CREATED:20260319T190128Z
LAST-MODIFIED:20260319T190322Z
UID:10024190-1777554000-1777564800@tcprobation.com
SUMMARY:Visalia Public Health Clinic
DESCRIPTION:
URL:https://tcprobation.com/tc-connections-event/visalia-public-health-clinic-2/2026-04-30/
LOCATION:Visalia Public Health Clinic\, 2505 N Dinuba Blvd\, Visalia\, CA\, 93291\, United States
CATEGORIES:Mobile Service Center
END:VEVENT
END:VCALENDAR