BEGIN:VCALENDAR
VERSION:2.0
PRODID:-//Tulare County Probation Department - ECPv6.15.20//NONSGML v1.0//EN
CALSCALE:GREGORIAN
METHOD:PUBLISH
X-WR-CALNAME:Tulare County Probation Department
X-ORIGINAL-URL:https://tcprobation.com
X-WR-CALDESC:Events for Tulare County Probation Department
REFRESH-INTERVAL;VALUE=DURATION:PT1H
X-Robots-Tag:noindex
X-PUBLISHED-TTL:PT1H
BEGIN:VTIMEZONE
TZID:America/Los_Angeles
BEGIN:DAYLIGHT
TZOFFSETFROM:-0800
TZOFFSETTO:-0700
TZNAME:PDT
DTSTART:20250309T100000
END:DAYLIGHT
BEGIN:STANDARD
TZOFFSETFROM:-0700
TZOFFSETTO:-0800
TZNAME:PST
DTSTART:20251102T090000
END:STANDARD
BEGIN:DAYLIGHT
TZOFFSETFROM:-0800
TZOFFSETTO:-0700
TZNAME:PDT
DTSTART:20260308T100000
END:DAYLIGHT
BEGIN:STANDARD
TZOFFSETFROM:-0700
TZOFFSETTO:-0800
TZNAME:PST
DTSTART:20261101T090000
END:STANDARD
BEGIN:DAYLIGHT
TZOFFSETFROM:-0800
TZOFFSETTO:-0700
TZNAME:PDT
DTSTART:20270314T100000
END:DAYLIGHT
BEGIN:STANDARD
TZOFFSETFROM:-0700
TZOFFSETTO:-0800
TZNAME:PST
DTSTART:20271107T090000
END:STANDARD
END:VTIMEZONE
BEGIN:VEVENT
DTSTART;TZID=America/Los_Angeles:20260302T090000
DTEND;TZID=America/Los_Angeles:20260302T120000
DTSTAMP:20260420T071539
CREATED:20260330T164918Z
LAST-MODIFIED:20260330T164924Z
UID:10023776-1772442000-1772452800@tcprobation.com
SUMMARY:Hillman Complex
DESCRIPTION:
URL:https://tcprobation.com/tc-connections-event/hillman-complex-3/2026-03-02/
LOCATION:Hillman Complex\, 559 E Bardsley\, Tulare\, CA\, 93274\, United States
CATEGORIES:Mobile Service Center
END:VEVENT
BEGIN:VEVENT
DTSTART;TZID=America/Los_Angeles:20260305T080000
DTEND;TZID=America/Los_Angeles:20260305T170000
DTSTAMP:20260420T071539
CREATED:20260209T174253Z
LAST-MODIFIED:20260209T175901Z
UID:10023866-1772697600-1772730000@tcprobation.com
SUMMARY:Visalia Public Health Clinic
DESCRIPTION:
URL:https://tcprobation.com/tc-connections-event/visalia-public-health-clinic/2026-03-05/
LOCATION:Visalia Public Health Clinic\, 2505 N Dinuba Blvd\, Visalia\, CA\, 93291\, United States
CATEGORIES:Mobile Service Center
END:VEVENT
BEGIN:VEVENT
DTSTART;TZID=America/Los_Angeles:20260309T090000
DTEND;TZID=America/Los_Angeles:20260309T120000
DTSTAMP:20260420T071539
CREATED:20260330T164918Z
LAST-MODIFIED:20260330T164924Z
UID:10024232-1773046800-1773057600@tcprobation.com
SUMMARY:Hillman Complex
DESCRIPTION:
URL:https://tcprobation.com/tc-connections-event/hillman-complex-3/2026-03-09/
LOCATION:Hillman Complex\, 559 E Bardsley\, Tulare\, CA\, 93274\, United States
CATEGORIES:Mobile Service Center
END:VEVENT
BEGIN:VEVENT
DTSTART;TZID=America/Los_Angeles:20260311T090000
DTEND;TZID=America/Los_Angeles:20260311T120000
DTSTAMP:20260420T071539
CREATED:20260209T173117Z
LAST-MODIFIED:20260209T173117Z
UID:10023807-1773219600-1773230400@tcprobation.com
SUMMARY:Old Porterville Courthouse
DESCRIPTION:
URL:https://tcprobation.com/tc-connections-event/old-porterville-courthouse-2/2026-03-11/
LOCATION:Old Porterville Courthouse\, 87 E. Morton Ave.\, Porterville\, CA\, 93257\, United States
CATEGORIES:Mobile Service Center
END:VEVENT
BEGIN:VEVENT
DTSTART;TZID=America/Los_Angeles:20260312T130000
DTEND;TZID=America/Los_Angeles:20260312T160000
DTSTAMP:20260420T071539
CREATED:20260209T173303Z
LAST-MODIFIED:20260209T173303Z
UID:10023839-1773320400-1773331200@tcprobation.com
SUMMARY:Visalia Navigation Center
DESCRIPTION:
URL:https://tcprobation.com/tc-connections-event/visalia-navigation-center/2026-03-12/
LOCATION:Visalia Navigation Center\, 3525 N. Court St.\, Visalia\, CA\, 93277\, United States
CATEGORIES:Mobile Service Center
END:VEVENT
BEGIN:VEVENT
DTSTART;TZID=America/Los_Angeles:20260316T090000
DTEND;TZID=America/Los_Angeles:20260316T120000
DTSTAMP:20260420T071539
CREATED:20260330T164918Z
LAST-MODIFIED:20260330T164924Z
UID:10023777-1773651600-1773662400@tcprobation.com
SUMMARY:Hillman Complex
DESCRIPTION:
URL:https://tcprobation.com/tc-connections-event/hillman-complex-3/2026-03-16/
LOCATION:Hillman Complex\, 559 E Bardsley\, Tulare\, CA\, 93274\, United States
CATEGORIES:Mobile Service Center
END:VEVENT
BEGIN:VEVENT
DTSTART;TZID=America/Los_Angeles:20260319T130000
DTEND;TZID=America/Los_Angeles:20260319T160000
DTSTAMP:20260420T071539
CREATED:20260319T190128Z
LAST-MODIFIED:20260319T190322Z
UID:10023867-1773925200-1773936000@tcprobation.com
SUMMARY:Visalia Public Health Clinic
DESCRIPTION:
URL:https://tcprobation.com/tc-connections-event/visalia-public-health-clinic-2/2026-03-19/
LOCATION:Visalia Public Health Clinic\, 2505 N Dinuba Blvd\, Visalia\, CA\, 93291\, United States
CATEGORIES:Mobile Service Center
END:VEVENT
BEGIN:VEVENT
DTSTART;TZID=America/Los_Angeles:20260323T090000
DTEND;TZID=America/Los_Angeles:20260323T120000
DTSTAMP:20260420T071539
CREATED:20260330T165221Z
LAST-MODIFIED:20260330T165427Z
UID:10023778-1774256400-1774267200@tcprobation.com
SUMMARY:Hillman Complex
DESCRIPTION:
URL:https://tcprobation.com/tc-connections-event/hillman-complex-2-2/2026-03-23/
LOCATION:Hillman Complex\, 559 E Bardsley\, Tulare\, CA\, 93274\, United States
CATEGORIES:Mobile Service Center
END:VEVENT
BEGIN:VEVENT
DTSTART;TZID=America/Los_Angeles:20260325T090000
DTEND;TZID=America/Los_Angeles:20260325T120000
DTSTAMP:20260420T071539
CREATED:20260209T173117Z
LAST-MODIFIED:20260209T173117Z
UID:10023808-1774429200-1774440000@tcprobation.com
SUMMARY:Old Porterville Courthouse
DESCRIPTION:
URL:https://tcprobation.com/tc-connections-event/old-porterville-courthouse-2/2026-03-25/
LOCATION:Old Porterville Courthouse\, 87 E. Morton Ave.\, Porterville\, CA\, 93257\, United States
CATEGORIES:Mobile Service Center
END:VEVENT
BEGIN:VEVENT
DTSTART;TZID=America/Los_Angeles:20260326T130000
DTEND;TZID=America/Los_Angeles:20260326T160000
DTSTAMP:20260420T071539
CREATED:20260209T173303Z
LAST-MODIFIED:20260209T173303Z
UID:10023840-1774530000-1774540800@tcprobation.com
SUMMARY:Visalia Navigation Center
DESCRIPTION:
URL:https://tcprobation.com/tc-connections-event/visalia-navigation-center/2026-03-26/
LOCATION:Visalia Navigation Center\, 3525 N. Court St.\, Visalia\, CA\, 93277\, United States
CATEGORIES:Mobile Service Center
END:VEVENT
BEGIN:VEVENT
DTSTART;TZID=America/Los_Angeles:20260330T090000
DTEND;TZID=America/Los_Angeles:20260330T120000
DTSTAMP:20260420T071539
CREATED:20260330T165221Z
LAST-MODIFIED:20260330T165427Z
UID:10024233-1774861200-1774872000@tcprobation.com
SUMMARY:Hillman Complex
DESCRIPTION:
URL:https://tcprobation.com/tc-connections-event/hillman-complex-2-2/2026-03-30/
LOCATION:Hillman Complex\, 559 E Bardsley\, Tulare\, CA\, 93274\, United States
CATEGORIES:Mobile Service Center
END:VEVENT
END:VCALENDAR